BEGIN:VCALENDAR
VERSION:2.0
PRODID:-//It&#039;s Immortal | It&#039;s contemporary art, abstract expressionism - ECPv6.15.20//NONSGML v1.0//EN
CALSCALE:GREGORIAN
METHOD:PUBLISH
X-ORIGINAL-URL:https://www.itsimmortal.com
X-WR-CALDESC:Events for It&#039;s Immortal | It&#039;s contemporary art, abstract expressionism
REFRESH-INTERVAL;VALUE=DURATION:PT1H
X-Robots-Tag:noindex
X-PUBLISHED-TTL:PT1H
BEGIN:VTIMEZONE
TZID:UTC
BEGIN:STANDARD
TZOFFSETFROM:+0000
TZOFFSETTO:+0000
TZNAME:UTC
DTSTART:20180101T000000
END:STANDARD
END:VTIMEZONE
BEGIN:VTIMEZONE
TZID:Europe/Paris
BEGIN:DAYLIGHT
TZOFFSETFROM:+0100
TZOFFSETTO:+0200
TZNAME:CEST
DTSTART:20250330T010000
END:DAYLIGHT
BEGIN:STANDARD
TZOFFSETFROM:+0200
TZOFFSETTO:+0100
TZNAME:CET
DTSTART:20251026T010000
END:STANDARD
BEGIN:DAYLIGHT
TZOFFSETFROM:+0100
TZOFFSETTO:+0200
TZNAME:CEST
DTSTART:20260329T010000
END:DAYLIGHT
BEGIN:STANDARD
TZOFFSETFROM:+0200
TZOFFSETTO:+0100
TZNAME:CET
DTSTART:20261025T010000
END:STANDARD
BEGIN:DAYLIGHT
TZOFFSETFROM:+0100
TZOFFSETTO:+0200
TZNAME:CEST
DTSTART:20270328T010000
END:DAYLIGHT
BEGIN:STANDARD
TZOFFSETFROM:+0200
TZOFFSETTO:+0100
TZNAME:CET
DTSTART:20271031T010000
END:STANDARD
END:VTIMEZONE
BEGIN:VEVENT
DTSTART;TZID=UTC:20190509T190000
DTEND;TZID=UTC:20241113T000000
DTSTAMP:20260424T162618
CREATED:20241113T121105Z
LAST-MODIFIED:20241114T071416Z
UID:20721-1557428400-1731456000@www.itsimmortal.com
SUMMARY:"Greece Everywhere"\, Expo Houten
DESCRIPTION:
URL:https://www.itsimmortal.com/event/greece-everywhere-expo-houten/
LOCATION:Expo Houten\, Utrecht\, Netherlands
CATEGORIES:Exhibitions
ATTACH;FMTTYPE=image/webp:https://www.itsimmortal.com/wp-content/uploads/2024/11/rsz_matrix_mixed_media_on_paper_50cmx70cm_2014_.webp
END:VEVENT
BEGIN:VEVENT
DTSTART;TZID=UTC:20221110T000000
DTEND;TZID=UTC:20241113T000000
DTSTAMP:20260424T162618
CREATED:20241113T093749Z
LAST-MODIFIED:20241113T111720Z
UID:20703-1668038400-1731456000@www.itsimmortal.com
SUMMARY:"The Greek Light" the Hague\, Leonardo Royal Hotel\, by the Greek Embassy in the Netherlands
DESCRIPTION:“The Greek Light” the Hague\, Leonardo Royal Hotel\, by the Greek Embassy in the Netherlands
URL:https://www.itsimmortal.com/event/the-greek-light-the-hague-leonardo-royal-hotel-by-the-greek-embassy-in-the-netherlands/
LOCATION:Leonardo Royal Hotel
CATEGORIES:Exhibitions
ATTACH;FMTTYPE=image/webp:https://www.itsimmortal.com/wp-content/uploads/2024/11/Search-III-ink-on-paper-25x32cm-each-diptych-painting-1-min-1-1-1-1-1-1_11zon-scaled.webp
END:VEVENT
BEGIN:VEVENT
DTSTART;TZID=UTC:20240305T000000
DTEND;TZID=UTC:20241111T000000
DTSTAMP:20260424T162618
CREATED:20220627T110531Z
LAST-MODIFIED:20241111T102929Z
UID:18139-1709596800-1731283200@www.itsimmortal.com
SUMMARY:“Get out of your Skull 2.0”\, Zilverhof
DESCRIPTION:
URL:https://www.itsimmortal.com/event/get-out-of-your-skull-2-0-zilverhof/
LOCATION:618 Fifth Ave. New York\, 618 Fifth Ave.\, New York\, NY\, 10016\, United States
CATEGORIES:Exhibitions
ATTACH;FMTTYPE=image/webp:https://www.itsimmortal.com/wp-content/uploads/2022/06/Screenshot_9.webp
END:VEVENT
BEGIN:VEVENT
DTSTART;TZID=UTC:20240707T200000
DTEND;TZID=UTC:20241111T000000
DTSTAMP:20260424T162618
CREATED:20220627T111057Z
LAST-MODIFIED:20241126T073030Z
UID:18142-1720382400-1731283200@www.itsimmortal.com
SUMMARY:“Get out of your Skull 2.0”\, Cultuurhoek
DESCRIPTION:
URL:https://www.itsimmortal.com/event/get-out-of-your-skull-2-0-cultuurhoek/
LOCATION:Cultuurhoek\, Driebergen\, Netherlands
CATEGORIES:Exhibitions
ATTACH;FMTTYPE=image/webp:https://www.itsimmortal.com/wp-content/uploads/2022/06/Screenshot_9.webp
END:VEVENT
BEGIN:VEVENT
DTSTART;TZID=UTC:20241003T200000
DTEND;TZID=UTC:20241003T200000
DTSTAMP:20260424T162618
CREATED:20220627T111342Z
LAST-MODIFIED:20241126T072748Z
UID:18145-1727985600-1727985600@www.itsimmortal.com
SUMMARY:“Get out of your Skull 2.0”\, Mishmash gallery
DESCRIPTION:
URL:https://www.itsimmortal.com/event/get-out-of-your-skull-2-0-mishmash-gallery/
LOCATION:Mishmash gallery\, Rotterdam\, Netherlands
CATEGORIES:Exhibitions
ATTACH;FMTTYPE=image/webp:https://www.itsimmortal.com/wp-content/uploads/2022/06/Screenshot_9.webp
END:VEVENT
BEGIN:VEVENT
DTSTART;TZID=UTC:20241108T000000
DTEND;TZID=UTC:20241108T000000
DTSTAMP:20260424T162618
CREATED:20220627T113257Z
LAST-MODIFIED:20241111T100542Z
UID:18149-1731024000-1731024000@www.itsimmortal.com
SUMMARY:“Thassos Art Project”
DESCRIPTION:
URL:https://www.itsimmortal.com/event/thassos-art-project/
LOCATION:Kalogeriko\, Limenas\, Thassos island\, Greece
CATEGORIES:Exhibitions
ATTACH;FMTTYPE=image/webp:https://www.itsimmortal.com/wp-content/uploads/2022/06/Thassos-art-project-summer-24.webp
ORGANIZER;CN="Expo Fine Art Gallery":MAILTO:yoursite@example.com
END:VEVENT
BEGIN:VEVENT
DTSTART;TZID=UTC:20241113T000000
DTEND;TZID=UTC:20241113T000000
DTSTAMP:20260424T162618
CREATED:20241113T122213Z
LAST-MODIFIED:20241113T123113Z
UID:20724-1731456000-1731456000@www.itsimmortal.com
SUMMARY:"Aeriofos" by Akto College & Gas company
DESCRIPTION:
URL:https://www.itsimmortal.com/event/aeriofos-by-akto-college-gas-company/
LOCATION:Technopolis\, Athens\, Greece
CATEGORIES:Exhibitions
ATTACH;FMTTYPE=image/webp:https://www.itsimmortal.com/wp-content/uploads/2024/11/Technopolis-Athens-Greece.webp
END:VEVENT
BEGIN:VEVENT
DTSTART;TZID=UTC:20250816T200000
DTEND;TZID=UTC:20250830T000000
DTSTAMP:20260424T162618
CREATED:20220627T110245Z
LAST-MODIFIED:20241126T105547Z
UID:18136-1755374400-1756512000@www.itsimmortal.com
SUMMARY:Time Travel Dimension
DESCRIPTION:
URL:https://www.itsimmortal.com/event/time-travel-dimension/
LOCATION:Generaal Bothastraat 7 E – 5642 NJ – Eindhoven – The Netherlands
CATEGORIES:Exhibitions
ATTACH;FMTTYPE=image/webp:https://www.itsimmortal.com/wp-content/uploads/2022/06/1.-future-exhibition.webp
END:VEVENT
BEGIN:VEVENT
DTSTART;TZID=Europe/Paris:20260207T120000
DTEND;TZID=Europe/Paris:20260208T180000
DTSTAMP:20260424T162618
CREATED:20260110T232004Z
LAST-MODIFIED:20260111T142535Z
UID:22007-1770465600-1770573600@www.itsimmortal.com
SUMMARY:Art & Luxury Fair at Grand Hotel Huis ter Duin in Noordwijk
DESCRIPTION:                                                 \n    \n  \nThe Art & Luxury Fair\, one of the most prestigious international art and luxury events\, is an initiative by Annette Wijdom\, with HRH Princess Margarita de Bourbon de Parme as Honorary Creative Contributor. \nAthanasia Iris will present key works including Thread and the Labyrinth \, Path of the Minotaur and Icarus. These pieces open a dialogue between mythology\, transformation\, and the human search for freedom and direction. \nHer work is a form of contemporary archaeology\, excavating ancient symbols and reimagining them with a ritualistic and timeless intensity. The vibrant palette of red\, gold\, bronze\, and white amplifies the sacred energy of her sculptures and paintings. \nMinoan Myth · Archaic Memory · Contemporary Archaeology \nFebruary 7–8\, 12:00–18:00 · Grand Hotel Huis ter Duin\, Noordwijk aan Zee 
URL:https://www.itsimmortal.com/event/art-luxury-fair-at-grand-hotel-huis-ter-duin-in-noordwijk/
LOCATION:Grand Hotel Huis ter Duin\, Noordwijk aan Zee\, Netherlands
CATEGORIES:Coming Soon,Exhibitions
END:VEVENT
END:VCALENDAR