BEGIN:VCALENDAR
VERSION:2.0
PRODID:-//It&#039;s Immortal | It&#039;s contemporary art, abstract expressionism - ECPv6.15.20//NONSGML v1.0//EN
CALSCALE:GREGORIAN
METHOD:PUBLISH
X-WR-CALNAME:It&#039;s Immortal | It&#039;s contemporary art, abstract expressionism
X-ORIGINAL-URL:https://www.itsimmortal.com
X-WR-CALDESC:Events for It&#039;s Immortal | It&#039;s contemporary art, abstract expressionism
REFRESH-INTERVAL;VALUE=DURATION:PT1H
X-Robots-Tag:noindex
X-PUBLISHED-TTL:PT1H
BEGIN:VTIMEZONE
TZID:UTC
BEGIN:STANDARD
TZOFFSETFROM:+0000
TZOFFSETTO:+0000
TZNAME:UTC
DTSTART:20240101T000000
END:STANDARD
END:VTIMEZONE
BEGIN:VEVENT
DTSTART;TZID=UTC:20250816T200000
DTEND;TZID=UTC:20250830T000000
DTSTAMP:20260422T040450
CREATED:20220627T110245Z
LAST-MODIFIED:20241126T105547Z
UID:18136-1755374400-1756512000@www.itsimmortal.com
SUMMARY:Time Travel Dimension
DESCRIPTION:
URL:https://www.itsimmortal.com/event/time-travel-dimension/
LOCATION:Generaal Bothastraat 7 E – 5642 NJ – Eindhoven – The Netherlands
CATEGORIES:Exhibitions
ATTACH;FMTTYPE=image/webp:https://www.itsimmortal.com/wp-content/uploads/2022/06/1.-future-exhibition.webp
END:VEVENT
END:VCALENDAR